BEGIN:VCALENDAR
VERSION:2.0
PRODID:-//hastingsfamilyservice.org//NONSGML kigkonsult.se iCalcreator 2.30
 .10//
CALSCALE:GREGORIAN
METHOD:PUBLISH
UID:72ef1972-a7fc-4384-a510-e0c0a12db1a4
X-WR-CALDESC:Call us at 651-437-7134 to sign up!
X-WR-RELCALID:e18a216dc69b43dd6c8cde4687fb1e3d
X-WR-TIMEZONE:America/Chicago
BEGIN:VTIMEZONE
TZID:America/Chicago
BEGIN:STANDARD
TZNAME:CST
DTSTART:20221106T020000
TZOFFSETFROM:-0500
TZOFFSETTO:-0600
RDATE:20231105T020000
END:STANDARD
BEGIN:DAYLIGHT
TZNAME:CDT
DTSTART:20220313T020000
TZOFFSETFROM:-0600
TZOFFSETTO:-0500
RDATE:20230312T020000
RDATE:20240310T020000
END:DAYLIGHT
END:VTIMEZONE
BEGIN:VEVENT
UID:af18ba4d-7399-409e-8719-9f070a220bcc
DTSTAMP:20260422T160610Z
DESCRIPTION:Call us at 651-437-7134 to sign up!
DTSTART;TZID=America/Chicago:20221110T000000
DTEND;TZID=America/Chicago:20221110T235900
LOCATION:
SUMMARY:Register for Thanksgiving Meals
END:VEVENT
END:VCALENDAR
