BEGIN:VCALENDAR
VERSION:2.0
PRODID:-//hastingsfamilyservice.org//NONSGML kigkonsult.se iCalcreator 2.30
 .10//
CALSCALE:GREGORIAN
METHOD:PUBLISH
UID:65e5d6dd-9bcc-4da3-88cc-08c6883d1d2b
X-WR-CALDESC:Call us at 651-437-7134 to sign up!
X-WR-RELCALID:9043230b465e03d406f7dab9d06c6098
X-WR-TIMEZONE:America/Chicago
BEGIN:VTIMEZONE
TZID:America/Chicago
BEGIN:STANDARD
TZNAME:CST
DTSTART:20211107T020000
TZOFFSETFROM:-0500
TZOFFSETTO:-0600
RDATE:20221106T020000
RDATE:20231105T020000
END:STANDARD
BEGIN:DAYLIGHT
TZNAME:CDT
DTSTART:20220313T020000
TZOFFSETFROM:-0600
TZOFFSETTO:-0500
RDATE:20230312T020000
RDATE:20240310T020000
END:DAYLIGHT
END:VTIMEZONE
BEGIN:VEVENT
UID:aff53f00-4fe2-45c2-b259-ebc634d79ef9
DTSTAMP:20260422T162052Z
DESCRIPTION:Call us at 651-437-7134 to sign up!
DTSTART;TZID=America/Chicago:20221107T000000
DTEND;TZID=America/Chicago:20221107T235900
LOCATION:
SUMMARY:Register for Thanksgiving Meals
END:VEVENT
END:VCALENDAR
