BEGIN:VCALENDAR
VERSION:2.0
PRODID:-//hastingsfamilyservice.org//NONSGML kigkonsult.se iCalcreator 2.30
 .10//
CALSCALE:GREGORIAN
METHOD:PUBLISH
UID:25b6d7ad-8b71-4d4d-861f-4f4b945265bf
X-WR-CALDESC:Market Express is an express drive-thru food pick up on schedu
 led dates throughout the month. Market Express is a 3-4 day supply of food
  and may include: meat\, bread\, dairy\, produce\, and dried goods (conten
 ts will vary). Advance sign up is required.
X-WR-RELCALID:59aac68635f08a7c339f72887759d8fa
X-WR-TIMEZONE:America/Chicago
BEGIN:VTIMEZONE
TZID:America/Chicago
BEGIN:STANDARD
TZNAME:CST
DTSTART:20211107T020000
TZOFFSETFROM:-0500
TZOFFSETTO:-0600
RDATE:20221106T020000
RDATE:20231105T020000
END:STANDARD
BEGIN:DAYLIGHT
TZNAME:CDT
DTSTART:20220313T020000
TZOFFSETFROM:-0600
TZOFFSETTO:-0500
RDATE:20230312T020000
RDATE:20240310T020000
END:DAYLIGHT
END:VTIMEZONE
BEGIN:VEVENT
UID:cd6e05e0-3dc2-41bf-b690-72560e6e0e7f
DTSTAMP:20260422T175846Z
DESCRIPTION:Market Express is an express drive-thru food pick up on schedul
 ed dates throughout the month. Market Express is a 3-4 day supply of food 
 and may include: meat\, bread\, dairy\, produce\, and dried goods (content
 s will vary). Advance sign up is required.
DTSTART;TZID=America/Chicago:20221028T090000
DTEND;TZID=America/Chicago:20221028T094500
LOCATION:
SUMMARY:Market Express
END:VEVENT
END:VCALENDAR
