BEGIN:VCALENDAR
VERSION:2.0
PRODID:-//hastingsfamilyservice.org//NONSGML kigkonsult.se iCalcreator 2.30
 .10//
CALSCALE:GREGORIAN
METHOD:PUBLISH
UID:b6ca1d39-0aca-4218-b45b-9fcff401f76c
X-WR-CALDESC:
X-WR-RELCALID:a6c00ac565b568da84e8b9f43783c7b7
X-WR-TIMEZONE:America/Chicago
BEGIN:VTIMEZONE
TZID:America/Chicago
BEGIN:STANDARD
TZNAME:CST
DTSTART:20211107T020000
TZOFFSETFROM:-0500
TZOFFSETTO:-0600
RDATE:20221106T020000
RDATE:20231105T020000
END:STANDARD
BEGIN:DAYLIGHT
TZNAME:CDT
DTSTART:20220313T020000
TZOFFSETFROM:-0600
TZOFFSETTO:-0500
RDATE:20230312T020000
RDATE:20240310T020000
END:DAYLIGHT
END:VTIMEZONE
BEGIN:VEVENT
UID:a8941bbc-414e-4b73-8607-2623ac8d7f96
DTSTAMP:20260422T174052Z
DESCRIPTION:
DTSTART;TZID=America/Chicago:20221025T170000
DTEND;TZID=America/Chicago:20221025T200000
LOCATION:111 2nd St E\, Hastings\, MN 55033 US
SUMMARY:Taproom Takeover at Spiral Brewery
END:VEVENT
END:VCALENDAR
