BEGIN:VCALENDAR
VERSION:2.0
PRODID:-//hastingsfamilyservice.org//NONSGML kigkonsult.se iCalcreator 2.30
 .10//
CALSCALE:GREGORIAN
METHOD:PUBLISH
UID:fe354d32-3508-46c0-b1c2-5f6bcc3177bf
X-WR-CALDESC:Market Express is an express drive-thru food pick up on schedu
 led dates throughout the month. Market Express is a 3-4 day supply of food
  and may include: meat\, bread\, dairy\, produce\, and dried goods (conten
 ts will vary). Advance sign up is required!
X-WR-RELCALID:a2e11677e4a128abc49691442f762483
X-WR-TIMEZONE:America/Chicago
BEGIN:VTIMEZONE
TZID:America/Chicago
BEGIN:STANDARD
TZNAME:CST
DTSTART:20211107T020000
TZOFFSETFROM:-0500
TZOFFSETTO:-0600
RDATE:20221106T020000
RDATE:20231105T020000
END:STANDARD
BEGIN:DAYLIGHT
TZNAME:CDT
DTSTART:20220313T020000
TZOFFSETFROM:-0600
TZOFFSETTO:-0500
RDATE:20230312T020000
RDATE:20240310T020000
END:DAYLIGHT
END:VTIMEZONE
BEGIN:VEVENT
UID:ca8b8c25-5b23-4941-be40-14b7d0eba6f3
DTSTAMP:20260422T175502Z
DESCRIPTION:Market Express is an express drive-thru food pick up on schedul
 ed dates throughout the month. Market Express is a 3-4 day supply of food 
 and may include: meat\, bread\, dairy\, produce\, and dried goods (content
 s will vary). Advance sign up is required!
DTSTART;TZID=America/Chicago:20221020T160000
DTEND;TZID=America/Chicago:20221020T164500
LOCATION:
SUMMARY:Market Express
END:VEVENT
END:VCALENDAR
