BEGIN:VCALENDAR
VERSION:2.0
PRODID:-//hastingsfamilyservice.org//NONSGML kigkonsult.se iCalcreator 2.30
 .10//
CALSCALE:GREGORIAN
METHOD:PUBLISH
UID:1eae55b2-0bd6-4c9a-ad6f-49644e6d4f85
X-WR-CALDESC:Registration opens for Project Share Holiday Assistance
X-WR-RELCALID:27c883d96e54df9d4f95a901dabc005b
X-WR-TIMEZONE:America/Chicago
BEGIN:VTIMEZONE
TZID:America/Chicago
BEGIN:STANDARD
TZNAME:CST
DTSTART:20211107T020000
TZOFFSETFROM:-0500
TZOFFSETTO:-0600
RDATE:20221106T020000
RDATE:20231105T020000
END:STANDARD
BEGIN:DAYLIGHT
TZNAME:CDT
DTSTART:20220313T020000
TZOFFSETFROM:-0600
TZOFFSETTO:-0500
RDATE:20230312T020000
RDATE:20240310T020000
END:DAYLIGHT
END:VTIMEZONE
BEGIN:VEVENT
UID:9d2b8747-8c59-4f13-b4ff-6dc5ac775070
DTSTAMP:20260422T180003Z
DESCRIPTION:Registration opens for Project Share Holiday Assistance
DTSTART;TZID=America/Chicago:20221011T090000
DTEND;TZID=America/Chicago:20221011T160000
LOCATION:
SUMMARY:Project Share Registration begins
END:VEVENT
END:VCALENDAR
