BEGIN:VCALENDAR
VERSION:2.0
PRODID:-//hastingsfamilyservice.org//NONSGML kigkonsult.se iCalcreator 2.30
 .10//
CALSCALE:GREGORIAN
METHOD:PUBLISH
UID:0eab9897-0919-477a-9b48-bdf39e632f60
X-WR-CALDESC:
X-WR-RELCALID:407ed8f47886eee81a88967305f87763
X-WR-TIMEZONE:America/Chicago
BEGIN:VTIMEZONE
TZID:America/Chicago
BEGIN:STANDARD
TZNAME:CST
DTSTART:20211107T020000
TZOFFSETFROM:-0500
TZOFFSETTO:-0600
RDATE:20221106T020000
RDATE:20231105T020000
END:STANDARD
BEGIN:DAYLIGHT
TZNAME:CDT
DTSTART:20220313T020000
TZOFFSETFROM:-0600
TZOFFSETTO:-0500
RDATE:20230312T020000
END:DAYLIGHT
END:VTIMEZONE
BEGIN:VEVENT
UID:6dc2cb89-0d3e-4290-98d1-072fde5d177f
DTSTAMP:20260423T001911Z
DESCRIPTION:
DTSTART;TZID=America/Chicago:20220622T123000
DTEND;TZID=America/Chicago:20220622T160000
LOCATION:
SUMMARY:HFS and Rivertown Treasures Thrift Store Closing Early for Staff Tr
 aining
END:VEVENT
END:VCALENDAR
