BEGIN:VCALENDAR
VERSION:2.0
PRODID:-//hastingsfamilyservice.org//NONSGML kigkonsult.se iCalcreator 2.30
 .10//
CALSCALE:GREGORIAN
METHOD:PUBLISH
UID:637930e7-0efb-466d-b269-a6d63d51b6c4
X-WR-CALDESC:Hastings Family Service will be closed on Monday\, May 30\, in
  observance of Memorial Day.
X-WR-RELCALID:df1df711a263c52c95eb087018eec9c4
X-WR-TIMEZONE:America/Chicago
BEGIN:VTIMEZONE
TZID:America/Chicago
BEGIN:STANDARD
TZNAME:CST
DTSTART:20211107T020000
TZOFFSETFROM:-0500
TZOFFSETTO:-0600
RDATE:20221106T020000
RDATE:20231105T020000
END:STANDARD
BEGIN:DAYLIGHT
TZNAME:CDT
DTSTART:20220313T020000
TZOFFSETFROM:-0600
TZOFFSETTO:-0500
RDATE:20230312T020000
END:DAYLIGHT
END:VTIMEZONE
BEGIN:VEVENT
UID:c913de13-9678-4af6-8789-5b0b69f4ee1a
DTSTAMP:20260423T022133Z
DESCRIPTION:Hastings Family Service will be closed on Monday\, May 30\, in 
 observance of Memorial Day.
DTSTART;TZID=America/Chicago:20220527T000000
DTEND;TZID=America/Chicago:20220527T235900
LOCATION:
SUMMARY:HFS Closed in Observance of Memorial Day
END:VEVENT
END:VCALENDAR
