BEGIN:VCALENDAR
VERSION:2.0
PRODID:-//hastingsfamilyservice.org//NONSGML kigkonsult.se iCalcreator 2.30
 .10//
CALSCALE:GREGORIAN
METHOD:PUBLISH
UID:e1aed885-e7cd-48f9-913c-6fe195f5bdfe
X-WR-CALDESC:
X-WR-RELCALID:5e03afb0517832a3e18ee2c31be1a40e
X-WR-TIMEZONE:America/Chicago
BEGIN:VTIMEZONE
TZID:America/Chicago
BEGIN:STANDARD
TZNAME:CST
DTSTART:20211107T020000
TZOFFSETFROM:-0500
TZOFFSETTO:-0600
RDATE:20221106T020000
END:STANDARD
BEGIN:DAYLIGHT
TZNAME:CDT
DTSTART:20210314T020000
TZOFFSETFROM:-0600
TZOFFSETTO:-0500
RDATE:20220313T020000
RDATE:20230312T020000
END:DAYLIGHT
END:VTIMEZONE
BEGIN:VEVENT
UID:c609ed8d-8c17-4866-9e10-72de8cf11ebb
DTSTAMP:20260423T134306Z
DESCRIPTION:
DTSTART;TZID=America/Chicago:20211125T000000
DTEND;TZID=America/Chicago:20211126T235900
LOCATION:
SUMMARY:Hastings Family Service Closed for Thanksgiving Holiday
END:VEVENT
END:VCALENDAR
