BEGIN:VCALENDAR
VERSION:2.0
PRODID:-//hastingsfamilyservice.org//NONSGML kigkonsult.se iCalcreator 2.30
 .10//
CALSCALE:GREGORIAN
METHOD:PUBLISH
UID:0b3d4c85-f196-419b-ab42-09950a620bca
X-WR-CALDESC:
X-WR-RELCALID:abb3c0f2fb6e2db39c90fc1a479bd6a5
X-WR-TIMEZONE:America/Chicago
BEGIN:VTIMEZONE
TZID:America/Chicago
BEGIN:STANDARD
TZNAME:CST
DTSTART:20211107T020000
TZOFFSETFROM:-0500
TZOFFSETTO:-0600
RDATE:20221106T020000
END:STANDARD
BEGIN:DAYLIGHT
TZNAME:CDT
DTSTART:20210314T020000
TZOFFSETFROM:-0600
TZOFFSETTO:-0500
RDATE:20220313T020000
RDATE:20230312T020000
END:DAYLIGHT
END:VTIMEZONE
BEGIN:VEVENT
UID:7432baeb-ca62-4b0b-9787-63710af768d9
DTSTAMP:20260423T134707Z
DESCRIPTION:
DTSTART;TZID=America/Chicago:20211125T000000
DTEND;TZID=America/Chicago:20211125T235900
LOCATION:Downtown Hastings
SUMMARY:Gobble Gait
END:VEVENT
END:VCALENDAR
