BEGIN:VCALENDAR
VERSION:2.0
PRODID:-//hastingsfamilyservice.org//NONSGML kigkonsult.se iCalcreator 2.30
 .10//
CALSCALE:GREGORIAN
METHOD:PUBLISH
UID:dd41e902-158f-421c-b3bd-eabe2b1bf00a
X-WR-CALDESC:
X-WR-RELCALID:71336a5599d0a61490ba1c4d6d6d1e1f
X-WR-TIMEZONE:America/Chicago
BEGIN:VTIMEZONE
TZID:America/Chicago
BEGIN:STANDARD
TZNAME:CST
DTSTART:20211107T020000
TZOFFSETFROM:-0500
TZOFFSETTO:-0600
RDATE:20221106T020000
END:STANDARD
BEGIN:DAYLIGHT
TZNAME:CDT
DTSTART:20210314T020000
TZOFFSETFROM:-0600
TZOFFSETTO:-0500
RDATE:20220313T020000
RDATE:20230312T020000
END:DAYLIGHT
END:VTIMEZONE
BEGIN:VEVENT
UID:18307fd8-1496-400c-9dbc-4a067791e31a
DTSTAMP:20260423T135405Z
DESCRIPTION:
DTSTART;TZID=America/Chicago:20211114T140000
DTEND;TZID=America/Chicago:20211114T150000
LOCATION:Cornerstone Bible Church (735 10th St E\, Hastings)
SUMMARY:Give Thanks Concert benefiting HFS
END:VEVENT
END:VCALENDAR
