BEGIN:VCALENDAR
VERSION:2.0
PRODID:-//hastingsfamilyservice.org//NONSGML kigkonsult.se iCalcreator 2.30
 .10//
CALSCALE:GREGORIAN
METHOD:PUBLISH
UID:eef4ea87-2a7c-4c77-8504-fb986c59df89
X-WR-CALDESC:
X-WR-RELCALID:51e0896c52b51bb44b34ac43792f3051
X-WR-TIMEZONE:America/Chicago
BEGIN:VTIMEZONE
TZID:America/Chicago
BEGIN:STANDARD
TZNAME:CST
DTSTART:20201101T020000
TZOFFSETFROM:-0500
TZOFFSETTO:-0600
RDATE:20211107T020000
RDATE:20221106T020000
END:STANDARD
BEGIN:DAYLIGHT
TZNAME:CDT
DTSTART:20210314T020000
TZOFFSETFROM:-0600
TZOFFSETTO:-0500
RDATE:20220313T020000
END:DAYLIGHT
END:VTIMEZONE
BEGIN:VEVENT
UID:f5b39b03-d203-4c30-800c-4c8c4f8a39e8
DTSTAMP:20260423T205734Z
DESCRIPTION:
DTSTART;TZID=America/Chicago:20210721T130000
DTEND;TZID=America/Chicago:20210721T140000
LOCATION:
SUMMARY:Market on the Move: Summer Meals Event
END:VEVENT
END:VCALENDAR
