BEGIN:VCALENDAR
VERSION:2.0
PRODID:-//hastingsfamilyservice.org//NONSGML kigkonsult.se iCalcreator 2.30
 .10//
CALSCALE:GREGORIAN
METHOD:PUBLISH
UID:58df4643-7181-4297-bc96-2f6ac8959459
X-WR-CALDESC:
X-WR-RELCALID:d3393d58b14fce46c24efae5ccfce3d0
X-WR-TIMEZONE:America/Chicago
BEGIN:VTIMEZONE
TZID:America/Chicago
BEGIN:STANDARD
TZNAME:CST
DTSTART:20201101T020000
TZOFFSETFROM:-0500
TZOFFSETTO:-0600
RDATE:20211107T020000
RDATE:20221106T020000
END:STANDARD
BEGIN:DAYLIGHT
TZNAME:CDT
DTSTART:20210314T020000
TZOFFSETFROM:-0600
TZOFFSETTO:-0500
RDATE:20220313T020000
END:DAYLIGHT
END:VTIMEZONE
BEGIN:VEVENT
UID:9b144dee-e6dc-452f-a86e-355a8bf638a1
DTSTAMP:20260423T210003Z
DESCRIPTION:
DTSTART;TZID=America/Chicago:20210714T110000
DTEND;TZID=America/Chicago:20210714T120000
LOCATION:
SUMMARY:Market on the Move: Summer Meals Event
END:VEVENT
END:VCALENDAR
