BEGIN:VCALENDAR
VERSION:2.0
PRODID:-//hastingsfamilyservice.org//NONSGML kigkonsult.se iCalcreator 2.30
 .10//
CALSCALE:GREGORIAN
METHOD:PUBLISH
UID:40b340b8-1be5-4da8-94e9-f0061f048cca
X-WR-CALDESC:Registration now open! Sponsorship opportunities are available
 .
X-WR-RELCALID:db14b5a3ea3811de4dedb8b196699993
X-WR-TIMEZONE:America/Chicago
BEGIN:VTIMEZONE
TZID:America/Chicago
BEGIN:STANDARD
TZNAME:CST
DTSTART:20201101T020000
TZOFFSETFROM:-0500
TZOFFSETTO:-0600
RDATE:20211107T020000
RDATE:20221106T020000
END:STANDARD
BEGIN:DAYLIGHT
TZNAME:CDT
DTSTART:20210314T020000
TZOFFSETFROM:-0600
TZOFFSETTO:-0500
RDATE:20220313T020000
END:DAYLIGHT
END:VTIMEZONE
BEGIN:VEVENT
UID:7bc9714d-e5e1-4dc7-8b18-df744f3f09ba
DTSTAMP:20260423T224007Z
DESCRIPTION:Registration now open! Sponsorship opportunities are available.
DTSTART;TZID=America/Chicago:20210614T000000
DTEND;TZID=America/Chicago:20210614T235900
LOCATION:
SUMMARY:Drive Out Hunger Golf Tournament
END:VEVENT
END:VCALENDAR
