BEGIN:VCALENDAR
VERSION:2.0
PRODID:-//hastingsfamilyservice.org//NONSGML kigkonsult.se iCalcreator 2.30
 .10//
CALSCALE:GREGORIAN
METHOD:PUBLISH
UID:b5d062e6-84aa-42fc-9ac1-ef16d76ddfb9
X-WR-CALDESC:
X-WR-RELCALID:43b4e8da7923313f5f6e8157cc9e33db
X-WR-TIMEZONE:America/Chicago
BEGIN:VTIMEZONE
TZID:America/Chicago
BEGIN:STANDARD
TZNAME:CST
DTSTART:20201101T020000
TZOFFSETFROM:-0500
TZOFFSETTO:-0600
RDATE:20211107T020000
END:STANDARD
BEGIN:DAYLIGHT
TZNAME:CDT
DTSTART:20210314T020000
TZOFFSETFROM:-0600
TZOFFSETTO:-0500
RDATE:20220313T020000
END:DAYLIGHT
END:VTIMEZONE
BEGIN:VEVENT
UID:626e590a-1070-4a84-970e-13162c1771c8
DTSTAMP:20260424T023830Z
DESCRIPTION:
DTSTART;TZID=America/Chicago:20210421T190000
DTEND;TZID=America/Chicago:20210421T200000
LOCATION:
SUMMARY:HFS 50th Anniversary Celebration
END:VEVENT
END:VCALENDAR
