BEGIN:VCALENDAR
VERSION:2.0
PRODID:-//hastingsfamilyservice.org//NONSGML kigkonsult.se iCalcreator 2.30
 .10//
CALSCALE:GREGORIAN
METHOD:PUBLISH
UID:b70b5ff8-663b-4c25-964e-0bfff95411ab
X-WR-CALDESC:
X-WR-RELCALID:b0ad6af6e3b904160588da404b59b65e
X-WR-TIMEZONE:America/Chicago
BEGIN:VTIMEZONE
TZID:America/Chicago
BEGIN:STANDARD
TZNAME:CST
DTSTART:20201101T020000
TZOFFSETFROM:-0500
TZOFFSETTO:-0600
RDATE:20211107T020000
END:STANDARD
BEGIN:DAYLIGHT
TZNAME:CDT
DTSTART:20210314T020000
TZOFFSETFROM:-0600
TZOFFSETTO:-0500
RDATE:20220313T020000
END:DAYLIGHT
END:VTIMEZONE
BEGIN:VEVENT
UID:c52d3473-a311-40c3-93bc-e834ce61d3f6
DTSTAMP:20260424T022436Z
DESCRIPTION:
DTSTART;TZID=America/Chicago:20210416T000000
DTEND;TZID=America/Chicago:20210416T235900
LOCATION:
SUMMARY:HFS Closing at 12:00 Noon
END:VEVENT
END:VCALENDAR
