BEGIN:VCALENDAR
VERSION:2.0
PRODID:-//hastingsfamilyservice.org//NONSGML kigkonsult.se iCalcreator 2.30
 .10//
CALSCALE:GREGORIAN
METHOD:PUBLISH
UID:e478c92f-feb1-4dda-983a-7f45ecf3b457
X-WR-CALDESC:Hastings Family Service will be closed on Friday\, April 2.  C
 urrent hours will resume on Monday\, April 5.
X-WR-RELCALID:108a6e60cafac845c259272d3f46e3a4
X-WR-TIMEZONE:America/Chicago
BEGIN:VTIMEZONE
TZID:America/Chicago
BEGIN:STANDARD
TZNAME:CST
DTSTART:20201101T020000
TZOFFSETFROM:-0500
TZOFFSETTO:-0600
RDATE:20211107T020000
END:STANDARD
BEGIN:DAYLIGHT
TZNAME:CDT
DTSTART:20210314T020000
TZOFFSETFROM:-0600
TZOFFSETTO:-0500
RDATE:20220313T020000
END:DAYLIGHT
END:VTIMEZONE
BEGIN:VEVENT
UID:c6a9379f-75e6-4382-90bf-96a67a00ec04
DTSTAMP:20260424T022925Z
DESCRIPTION:Hastings Family Service will be closed on Friday\, April 2.  Cu
 rrent hours will resume on Monday\, April 5.
DTSTART;TZID=America/Chicago:20210402T000000
DTEND;TZID=America/Chicago:20210402T235900
LOCATION:
SUMMARY:Hastings Family Service Closed
END:VEVENT
END:VCALENDAR
