BEGIN:VCALENDAR
VERSION:2.0
PRODID:-//hastingsfamilyservice.org//NONSGML kigkonsult.se iCalcreator 2.30
 .10//
CALSCALE:GREGORIAN
METHOD:PUBLISH
UID:98cdef28-fa9b-4737-b6a7-011ea9afa648
X-WR-CALDESC:During the MN FoodShare Campaign\, every dollar and every poun
 d is proportionately MATCHED by MN FoodShare.
X-WR-RELCALID:b7c23a36f6117e960ff33f08f47c1493
X-WR-TIMEZONE:America/Chicago
BEGIN:VTIMEZONE
TZID:America/Chicago
BEGIN:STANDARD
TZNAME:CST
DTSTART:20201101T020000
TZOFFSETFROM:-0500
TZOFFSETTO:-0600
RDATE:20211107T020000
END:STANDARD
BEGIN:DAYLIGHT
TZNAME:CDT
DTSTART:20200308T020000
TZOFFSETFROM:-0600
TZOFFSETTO:-0500
RDATE:20210314T020000
RDATE:20220313T020000
END:DAYLIGHT
END:VTIMEZONE
BEGIN:VEVENT
UID:63d5f59b-ed2e-4a57-9597-195378fae361
DTSTAMP:20260424T023413Z
DESCRIPTION:During the MN FoodShare Campaign\, every dollar and every pound
  is proportionately MATCHED by MN FoodShare.
DTSTART;TZID=America/Chicago:20210301T000000
DTEND;TZID=America/Chicago:20210411T235900
LOCATION:
SUMMARY:MN FoodShare
END:VEVENT
END:VCALENDAR
