BEGIN:VCALENDAR
VERSION:2.0
PRODID:-//hastingsfamilyservice.org//NONSGML kigkonsult.se iCalcreator 2.30
 .10//
CALSCALE:GREGORIAN
METHOD:PUBLISH
UID:afa380b8-2fef-4158-aa39-fb5f895ce308
X-WR-CALDESC:We encourage everyone to participate in Hastings Tasting Takeo
 ut at anytime during the Minnesota FoodShare campaign by dining in or orde
 ring a meal for takeout or delivery from any of the local establishments t
 hat you would have enjoyed at Hasting Tastings this year.
X-WR-RELCALID:898b64d6a5c6438083f22b79334b8533
X-WR-TIMEZONE:America/Chicago
BEGIN:VTIMEZONE
TZID:America/Chicago
BEGIN:STANDARD
TZNAME:CST
DTSTART:20201101T020000
TZOFFSETFROM:-0500
TZOFFSETTO:-0600
RDATE:20211107T020000
END:STANDARD
BEGIN:DAYLIGHT
TZNAME:CDT
DTSTART:20200308T020000
TZOFFSETFROM:-0600
TZOFFSETTO:-0500
RDATE:20210314T020000
RDATE:20220313T020000
END:DAYLIGHT
END:VTIMEZONE
BEGIN:VEVENT
UID:321ff385-6ff8-4400-a04a-13e0a631ac9e
DTSTAMP:20260424T023215Z
DESCRIPTION:We encourage everyone to participate in Hastings Tasting Takeou
 t at anytime during the Minnesota FoodShare campaign by dining in or order
 ing a meal for takeout or delivery from any of the local establishments th
 at you would have enjoyed at Hasting Tastings this year.
DTSTART;TZID=America/Chicago:20210301T000000
DTEND;TZID=America/Chicago:20210411T235900
LOCATION:
SUMMARY:Hastings Tastings Takeout
END:VEVENT
END:VCALENDAR
