BEGIN:VCALENDAR
VERSION:2.0
PRODID:-//hastingsfamilyservice.org//NONSGML kigkonsult.se iCalcreator 2.30
 .10//
CALSCALE:GREGORIAN
METHOD:PUBLISH
UID:393e9def-2432-4664-a30d-9ca11b8d0cb2
X-WR-CALDESC:Join the City-Wide Food Fight during the MN FoodShare March Ca
 mpaign!  Every dollar and every pound of food donated between March 1 and 
 April 30\, 2020 will be proportionately MATCHED by MN FoodShare.
X-WR-RELCALID:95c8078442474554c49aa9631167163e
X-WR-TIMEZONE:America/Chicago
BEGIN:VTIMEZONE
TZID:America/Chicago
BEGIN:STANDARD
TZNAME:CST
DTSTART:20191103T020000
TZOFFSETFROM:-0500
TZOFFSETTO:-0600
RDATE:20201101T020000
END:STANDARD
BEGIN:DAYLIGHT
TZNAME:CDT
DTSTART:20190310T020000
TZOFFSETFROM:-0600
TZOFFSETTO:-0500
RDATE:20200308T020000
RDATE:20210314T020000
END:DAYLIGHT
END:VTIMEZONE
BEGIN:VEVENT
UID:b1946c69-cb73-4400-a664-a36de14317b8
DTSTAMP:20260424T040310Z
DESCRIPTION:Join the City-Wide Food Fight during the MN FoodShare March Cam
 paign!  Every dollar and every pound of food donated between March 1 and A
 pril 30\, 2020 will be proportionately MATCHED by MN FoodShare.
DTSTART;TZID=America/Chicago:20200301T000000
DTEND;TZID=America/Chicago:20200430T235900
LOCATION:
SUMMARY:MN FoodShare March Campaign
END:VEVENT
END:VCALENDAR
