BEGIN:VCALENDAR
VERSION:2.0
PRODID:-//hastingsfamilyservice.org//NONSGML kigkonsult.se iCalcreator 2.30
 .10//
CALSCALE:GREGORIAN
METHOD:PUBLISH
UID:93f053a6-033d-45f8-af3f-ded56a0362ee
X-WR-CALDESC:Enjoy the holiday light display and meet Santa at Bremer Farms
  (7048 150th St. Hastings).  Santa will be collecting monetary and food do
 nations to support Hastings Family Service.
X-WR-RELCALID:9647c81a6aa356aacac3937bd55e39d6
X-WR-TIMEZONE:America/Chicago
BEGIN:VTIMEZONE
TZID:America/Chicago
BEGIN:STANDARD
TZNAME:CST
DTSTART:20191103T020000
TZOFFSETFROM:-0500
TZOFFSETTO:-0600
RDATE:20201101T020000
END:STANDARD
BEGIN:DAYLIGHT
TZNAME:CDT
DTSTART:20190310T020000
TZOFFSETFROM:-0600
TZOFFSETTO:-0500
RDATE:20200308T020000
RDATE:20210314T020000
END:DAYLIGHT
END:VTIMEZONE
BEGIN:VEVENT
UID:08f3b5e2-260d-408e-b471-a33566976ec9
DTSTAMP:20260423T052306Z
DESCRIPTION:Enjoy the holiday light display and meet Santa at Bremer Farms 
 (7048 150th St. Hastings).  Santa will be collecting monetary and food don
 ations to support Hastings Family Service.
DTSTART;TZID=America/Chicago:20191214T170000
DTEND;TZID=America/Chicago:20191214T190000
LOCATION:Bremer Farms
SUMMARY:Santa on the Farm
END:VEVENT
END:VCALENDAR
