BEGIN:VCALENDAR
VERSION:2.0
PRODID:-//hastingsfamilyservice.org//NONSGML kigkonsult.se iCalcreator 2.30
 .10//
CALSCALE:GREGORIAN
METHOD:PUBLISH
UID:88f12a52-50f6-48ad-9b3b-ea5dad584687
X-WR-CALDESC:Join the Downtown Business Association for Small Business Satu
 rday and the  Holiday Hoopla.  Various activities will take place in Downt
 own Hastings throughout the day.  Rivertown Treasures Thrift Store will be
  open 9 a.m. to 5 p.m.
X-WR-RELCALID:3d39263029a521cc9731a3af0667f7ab
X-WR-TIMEZONE:America/Chicago
BEGIN:VTIMEZONE
TZID:America/Chicago
BEGIN:STANDARD
TZNAME:CST
DTSTART:20191103T020000
TZOFFSETFROM:-0500
TZOFFSETTO:-0600
RDATE:20201101T020000
END:STANDARD
BEGIN:DAYLIGHT
TZNAME:CDT
DTSTART:20190310T020000
TZOFFSETFROM:-0600
TZOFFSETTO:-0500
RDATE:20200308T020000
RDATE:20210314T020000
END:DAYLIGHT
END:VTIMEZONE
BEGIN:VEVENT
UID:b1b06b42-e8ba-4406-acd2-fd6225cb646d
DTSTAMP:20260421T195649Z
DESCRIPTION:Join the Downtown Business Association for Small Business Satur
 day and the  Holiday Hoopla.  Various activities will take place in Downto
 wn Hastings throughout the day.  Rivertown Treasures Thrift Store will be 
 open 9 a.m. to 5 p.m.
DTSTART;TZID=America/Chicago:20191130T000000
DTEND;TZID=America/Chicago:20191130T235900
LOCATION:Downtown Hastings
SUMMARY:Downtown Hastings Holiday Hoopla
END:VEVENT
END:VCALENDAR
