BEGIN:VCALENDAR
VERSION:2.0
PRODID:-//hastingsfamilyservice.org//NONSGML kigkonsult.se iCalcreator 2.30
 .10//
CALSCALE:GREGORIAN
METHOD:PUBLISH
UID:8cff9f2f-4640-4fde-a8f3-6186db214001
X-WR-CALDESC:Use a Gobble Gait coupon to save $10 on your purchase of $50 o
 r more\, plus 10% of your purchase will be donated to Gobble Gait to benef
 it Hastings Family Service.  Use online code GG10 or print a coupon at www
 .stormcreek.com/gobble-gait/
X-WR-RELCALID:c3f4113af76d40c964e23905ad1edb54
X-WR-TIMEZONE:America/Chicago
BEGIN:VTIMEZONE
TZID:America/Chicago
BEGIN:STANDARD
TZNAME:CST
DTSTART:20191103T020000
TZOFFSETFROM:-0500
TZOFFSETTO:-0600
RDATE:20201101T020000
END:STANDARD
BEGIN:DAYLIGHT
TZNAME:CDT
DTSTART:20190310T020000
TZOFFSETFROM:-0600
TZOFFSETTO:-0500
RDATE:20200308T020000
RDATE:20210314T020000
END:DAYLIGHT
END:VTIMEZONE
BEGIN:VEVENT
UID:d2f80bf0-55f2-44fa-a6f9-6cb489b86201
DTSTAMP:20260422T164913Z
DESCRIPTION:Use a Gobble Gait coupon to save $10 on your purchase of $50 or
  more\, plus 10% of your purchase will be donated to Gobble Gait to benefi
 t Hastings Family Service.  Use online code GG10 or print a coupon at www.
 stormcreek.com/gobble-gait/
DTSTART;TZID=America/Chicago:20191129T000000
DTEND;TZID=America/Chicago:20191130T235900
LOCATION:Storm Creek Hastings Warehouse
SUMMARY:Storm Creek Warehouse Sale
END:VEVENT
END:VCALENDAR
